BEGIN:VCALENDAR
VERSION:2.0
PRODID:-//Silver Bells DIY - ECPv6.15.20//NONSGML v1.0//EN
CALSCALE:GREGORIAN
METHOD:PUBLISH
X-ORIGINAL-URL:https://silverbellsdiy.com
X-WR-CALDESC:Events for Silver Bells DIY
REFRESH-INTERVAL;VALUE=DURATION:PT1H
X-Robots-Tag:noindex
X-PUBLISHED-TTL:PT1H
BEGIN:VTIMEZONE
TZID:America/New_York
BEGIN:DAYLIGHT
TZOFFSETFROM:-0500
TZOFFSETTO:-0400
TZNAME:EDT
DTSTART:20230312T070000
END:DAYLIGHT
BEGIN:STANDARD
TZOFFSETFROM:-0400
TZOFFSETTO:-0500
TZNAME:EST
DTSTART:20231105T060000
END:STANDARD
BEGIN:DAYLIGHT
TZOFFSETFROM:-0500
TZOFFSETTO:-0400
TZNAME:EDT
DTSTART:20240310T070000
END:DAYLIGHT
BEGIN:STANDARD
TZOFFSETFROM:-0400
TZOFFSETTO:-0500
TZNAME:EST
DTSTART:20241103T060000
END:STANDARD
BEGIN:DAYLIGHT
TZOFFSETFROM:-0500
TZOFFSETTO:-0400
TZNAME:EDT
DTSTART:20250309T070000
END:DAYLIGHT
BEGIN:STANDARD
TZOFFSETFROM:-0400
TZOFFSETTO:-0500
TZNAME:EST
DTSTART:20251102T060000
END:STANDARD
BEGIN:DAYLIGHT
TZOFFSETFROM:-0500
TZOFFSETTO:-0400
TZNAME:EDT
DTSTART:20260308T070000
END:DAYLIGHT
BEGIN:STANDARD
TZOFFSETFROM:-0400
TZOFFSETTO:-0500
TZNAME:EST
DTSTART:20261101T060000
END:STANDARD
BEGIN:DAYLIGHT
TZOFFSETFROM:-0500
TZOFFSETTO:-0400
TZNAME:EDT
DTSTART:20270314T070000
END:DAYLIGHT
BEGIN:STANDARD
TZOFFSETFROM:-0400
TZOFFSETTO:-0500
TZNAME:EST
DTSTART:20271107T060000
END:STANDARD
END:VTIMEZONE
BEGIN:VEVENT
DTSTART;TZID=America/New_York:20260207T150000
DTEND;TZID=America/New_York:20260207T170000
DTSTAMP:20260421T111926
CREATED:20260102T170620Z
LAST-MODIFIED:20260102T170845Z
UID:10000085-1770476400-1770483600@silverbellsdiy.com
SUMMARY:Galentine's Day Floral
DESCRIPTION:Grab your bestie and join me for a creative floral workshop where we will design fresh bouquets inside stylish purse shaped containers!\nUse this link to sign up and pay!\nhttps://square.link/u/Z65KwwuE
URL:https://silverbellsdiy.com/event/galentines-day-floral/
LOCATION:NH
END:VEVENT
BEGIN:VEVENT
DTSTART;TZID=America/New_York:20251219T183000
DTEND;TZID=America/New_York:20251219T200000
DTSTAMP:20260421T111926
CREATED:20251211T185235Z
LAST-MODIFIED:20251211T185844Z
UID:10000084-1766169000-1766174400@silverbellsdiy.com
SUMMARY:Simmer Pot Kit Workshop
DESCRIPTION:Celebrate the holiday season with a cozy\, creative night out. In this hands on workshop\, you’ll build your own festive simmer pot kits using a mix of warm spices\, dried citrus\, fresh evergreens\, and other fragrant ingredients. They’re perfect to enjoy in your own home or to package as thoughtful\, handmade gifts. Grab your spot and get ready to soak in the scents of the season! \nCall or text to reserve your spot!\n603-505-5547\nYou may also prepay with the link to reserve.
URL:https://silverbellsdiy.com/event/simmer-pot-kit-workshop/
LOCATION:Silver Bells DIY\, 501 Daniel Webster Hwy\, Merrimack\, NH\, 03054\, United States
END:VEVENT
BEGIN:VEVENT
DTSTART;TZID=America/New_York:20250918T183000
DTEND;TZID=America/New_York:20250918T200000
DTSTAMP:20260421T111926
CREATED:20250826T180054Z
LAST-MODIFIED:20250826T193509Z
UID:10000083-1758220200-1758225600@silverbellsdiy.com
SUMMARY:Bud Vase Trio Craft
DESCRIPTION:Join us for our upcoming DIY Bud Vase Trio Class where you’ll get hands on creating a piece for your home or even as a thoughtful gift!\nWe’ll be staining and painting wood\, building your vase stand\, and decorating with florals and accents. \nNo experience necessary–just bring your creativity and we’ll supply the rest! \nReserve your spot today! \n \n \nPayment Link:\nhttps://square.link/u/Z65KwwuE
URL:https://silverbellsdiy.com/event/bud-vase-trio-craft/
LOCATION:Silver Bells DIY\, 501 Daniel Webster Hwy\, Merrimack\, NH\, 03054\, United States
END:VEVENT
BEGIN:VEVENT
DTSTART;TZID=America/New_York:20250723T180000
DTEND;TZID=America/New_York:20250723T193000
DTSTAMP:20260421T111926
CREATED:20250702T182750Z
LAST-MODIFIED:20250715T194830Z
UID:10000082-1753293600-1753299000@silverbellsdiy.com
SUMMARY:Water Candle Making Class!
DESCRIPTION:Join us for our first adult craft class! \nWe’re excited to launch our very first Adult Craft Night\, and you’re invited! Come unwind\, get creative\, and learn how to make your very own custom water candle in a relaxed\, welcoming space. \nWhat to Expect:\nHands on instruction for making beautiful water candles!\nAll materials included–just bring yourself!\nLight refreshments & good vibes!\nChill music & great company! \nWhether you’re a seasoned crafter or a curious beginner\, this is the perfect night to try something new and take home a glowing creation of your own!\n$30 per person\nReserve your spot today!\nCall Silver Bells DIY @ 603-505-5547
URL:https://silverbellsdiy.com/event/water-candle-making-class/
LOCATION:Silver Bells DIY\, 501 Daniel Webster Hwy\, Merrimack\, NH\, 03054\, United States
ORGANIZER;CN="Silver Bells DIY Design & Decor":MAILTO:www.silverbellsdiy.com
END:VEVENT
BEGIN:VEVENT
DTSTART;TZID=America/New_York:20250709T140000
DTEND;TZID=America/New_York:20250709T160000
DTSTAMP:20260421T111926
CREATED:20250701T193900Z
LAST-MODIFIED:20250702T190711Z
UID:10000081-1752069600-1752076800@silverbellsdiy.com
SUMMARY:Open Paint For Kids!
DESCRIPTION:Let your child’s imagination run wild with paints\, brushes and plenty of colors! No experience needed–just bring your creativity and we’ll take care of the rest!  \n-All materials provided\n-Staff on hand to help guide and encourage\n-Snacks and drinks offered \nPerfect for ages 4 and up–parents are welcome to stay and watch the magic happen!\n$15 per child\nCome make memories (and a little mess) with us!
URL:https://silverbellsdiy.com/event/open-paint-for-kids/
LOCATION:Silver Bells DIY\, 501 Daniel Webster Hwy\, Merrimack\, NH\, 03054\, United States
ORGANIZER;CN="Silver Bells DIY Design & Decor":MAILTO:www.silverbellsdiy.com
END:VEVENT
BEGIN:VEVENT
DTSTART;TZID=America/New_York:20240827T080000
DTEND;TZID=America/New_York:20240827T090000
DTSTAMP:20260421T111926
CREATED:20240130T181442Z
LAST-MODIFIED:20240130T181444Z
UID:10000073-1724745600-1724749200@silverbellsdiy.com
SUMMARY:Coffee talk
DESCRIPTION:
URL:https://silverbellsdiy.com/event/coffee-talk-2-2/2024-08-27/
LOCATION:NH
END:VEVENT
BEGIN:VEVENT
DTSTART;TZID=America/New_York:20240820T080000
DTEND;TZID=America/New_York:20240820T090000
DTSTAMP:20260421T111926
CREATED:20240130T181442Z
LAST-MODIFIED:20240130T181444Z
UID:10000072-1724140800-1724144400@silverbellsdiy.com
SUMMARY:Coffee talk
DESCRIPTION:
URL:https://silverbellsdiy.com/event/coffee-talk-2-2/2024-08-20/
LOCATION:NH
END:VEVENT
BEGIN:VEVENT
DTSTART;TZID=America/New_York:20240813T080000
DTEND;TZID=America/New_York:20240813T090000
DTSTAMP:20260421T111926
CREATED:20240130T181442Z
LAST-MODIFIED:20240130T181444Z
UID:10000071-1723536000-1723539600@silverbellsdiy.com
SUMMARY:Coffee talk
DESCRIPTION:
URL:https://silverbellsdiy.com/event/coffee-talk-2-2/2024-08-13/
LOCATION:NH
END:VEVENT
BEGIN:VEVENT
DTSTART;TZID=America/New_York:20240808T010000
DTEND;TZID=America/New_York:20240808T150000
DTSTAMP:20260421T111926
CREATED:20240730T165642Z
LAST-MODIFIED:20240730T165642Z
UID:10000080-1723078800-1723129200@silverbellsdiy.com
SUMMARY:Silver Bells DIY for KIDS!
DESCRIPTION:Birdhouse Craft! \nCreate a custom birdhouse\, while letting the kids socialize and enjoy snacks and drinks!
URL:https://silverbellsdiy.com/event/silver-bells-diy-for-kids/
LOCATION:Silver Bells DIY\, 501 Daniel Webster Hwy\, Merrimack\, NH\, 03054\, United States
END:VEVENT
BEGIN:VEVENT
DTSTART;TZID=America/New_York:20240806T080000
DTEND;TZID=America/New_York:20240806T090000
DTSTAMP:20260421T111926
CREATED:20240130T181442Z
LAST-MODIFIED:20240130T181444Z
UID:10000070-1722931200-1722934800@silverbellsdiy.com
SUMMARY:Coffee talk
DESCRIPTION:
URL:https://silverbellsdiy.com/event/coffee-talk-2-2/2024-08-06/
LOCATION:NH
END:VEVENT
BEGIN:VEVENT
DTSTART;TZID=America/New_York:20240730T080000
DTEND;TZID=America/New_York:20240730T090000
DTSTAMP:20260421T111926
CREATED:20240130T181442Z
LAST-MODIFIED:20240130T181444Z
UID:10000069-1722326400-1722330000@silverbellsdiy.com
SUMMARY:Coffee talk
DESCRIPTION:
URL:https://silverbellsdiy.com/event/coffee-talk-2-2/2024-07-30/
LOCATION:NH
END:VEVENT
BEGIN:VEVENT
DTSTART;TZID=America/New_York:20240723T080000
DTEND;TZID=America/New_York:20240723T090000
DTSTAMP:20260421T111926
CREATED:20240130T181442Z
LAST-MODIFIED:20240130T181444Z
UID:10000068-1721721600-1721725200@silverbellsdiy.com
SUMMARY:Coffee talk
DESCRIPTION:
URL:https://silverbellsdiy.com/event/coffee-talk-2-2/2024-07-23/
LOCATION:NH
END:VEVENT
BEGIN:VEVENT
DTSTART;TZID=America/New_York:20240716T080000
DTEND;TZID=America/New_York:20240716T090000
DTSTAMP:20260421T111926
CREATED:20240130T181442Z
LAST-MODIFIED:20240130T181444Z
UID:10000067-1721116800-1721120400@silverbellsdiy.com
SUMMARY:Coffee talk
DESCRIPTION:
URL:https://silverbellsdiy.com/event/coffee-talk-2-2/2024-07-16/
LOCATION:NH
END:VEVENT
BEGIN:VEVENT
DTSTART;TZID=America/New_York:20240709T080000
DTEND;TZID=America/New_York:20240709T090000
DTSTAMP:20260421T111926
CREATED:20240130T181442Z
LAST-MODIFIED:20240130T181444Z
UID:10000066-1720512000-1720515600@silverbellsdiy.com
SUMMARY:Coffee talk
DESCRIPTION:
URL:https://silverbellsdiy.com/event/coffee-talk-2-2/2024-07-09/
LOCATION:NH
END:VEVENT
BEGIN:VEVENT
DTSTART;TZID=America/New_York:20240702T080000
DTEND;TZID=America/New_York:20240702T090000
DTSTAMP:20260421T111926
CREATED:20240130T181442Z
LAST-MODIFIED:20240130T181444Z
UID:10000065-1719907200-1719910800@silverbellsdiy.com
SUMMARY:Coffee talk
DESCRIPTION:
URL:https://silverbellsdiy.com/event/coffee-talk-2-2/2024-07-02/
LOCATION:NH
END:VEVENT
BEGIN:VEVENT
DTSTART;TZID=America/New_York:20240625T080000
DTEND;TZID=America/New_York:20240625T090000
DTSTAMP:20260421T111926
CREATED:20240130T181442Z
LAST-MODIFIED:20240130T181444Z
UID:10000064-1719302400-1719306000@silverbellsdiy.com
SUMMARY:Coffee talk
DESCRIPTION:
URL:https://silverbellsdiy.com/event/coffee-talk-2-2/2024-06-25/
LOCATION:NH
END:VEVENT
BEGIN:VEVENT
DTSTART;TZID=America/New_York:20240618T080000
DTEND;TZID=America/New_York:20240618T090000
DTSTAMP:20260421T111926
CREATED:20240130T181442Z
LAST-MODIFIED:20240130T181444Z
UID:10000063-1718697600-1718701200@silverbellsdiy.com
SUMMARY:Coffee talk
DESCRIPTION:
URL:https://silverbellsdiy.com/event/coffee-talk-2-2/2024-06-18/
LOCATION:NH
END:VEVENT
BEGIN:VEVENT
DTSTART;TZID=America/New_York:20240611T080000
DTEND;TZID=America/New_York:20240611T090000
DTSTAMP:20260421T111926
CREATED:20240130T181442Z
LAST-MODIFIED:20240130T181444Z
UID:10000062-1718092800-1718096400@silverbellsdiy.com
SUMMARY:Coffee talk
DESCRIPTION:
URL:https://silverbellsdiy.com/event/coffee-talk-2-2/2024-06-11/
LOCATION:NH
END:VEVENT
BEGIN:VEVENT
DTSTART;TZID=America/New_York:20240604T080000
DTEND;TZID=America/New_York:20240604T090000
DTSTAMP:20260421T111926
CREATED:20240130T181442Z
LAST-MODIFIED:20240130T181444Z
UID:10000061-1717488000-1717491600@silverbellsdiy.com
SUMMARY:Coffee talk
DESCRIPTION:
URL:https://silverbellsdiy.com/event/coffee-talk-2-2/2024-06-04/
LOCATION:NH
END:VEVENT
BEGIN:VEVENT
DTSTART;TZID=America/New_York:20240528T080000
DTEND;TZID=America/New_York:20240528T090000
DTSTAMP:20260421T111926
CREATED:20240130T181442Z
LAST-MODIFIED:20240130T181444Z
UID:10000060-1716883200-1716886800@silverbellsdiy.com
SUMMARY:Coffee talk
DESCRIPTION:
URL:https://silverbellsdiy.com/event/coffee-talk-2-2/2024-05-28/
LOCATION:NH
END:VEVENT
BEGIN:VEVENT
DTSTART;TZID=America/New_York:20240525T180000
DTEND;TZID=America/New_York:20240525T200000
DTSTAMP:20260421T111926
CREATED:20240207T194729Z
LAST-MODIFIED:20240207T194729Z
UID:10000079-1716660000-1716667200@silverbellsdiy.com
SUMMARY:Flag Wreath Craft
DESCRIPTION:
URL:https://silverbellsdiy.com/event/flag-wreath-craft/
LOCATION:Silver Bells DIY\, 501 Daniel Webster Hwy\, Merrimack\, NH\, 03054\, United States
ATTACH;FMTTYPE=image/jpeg:https://silverbellsdiy.com/wp-content/uploads/2024/02/received_795806955803660.jpeg
END:VEVENT
BEGIN:VEVENT
DTSTART;TZID=America/New_York:20240521T080000
DTEND;TZID=America/New_York:20240521T090000
DTSTAMP:20260421T111926
CREATED:20240130T181442Z
LAST-MODIFIED:20240130T181444Z
UID:10000059-1716278400-1716282000@silverbellsdiy.com
SUMMARY:Coffee talk
DESCRIPTION:
URL:https://silverbellsdiy.com/event/coffee-talk-2-2/2024-05-21/
LOCATION:NH
END:VEVENT
BEGIN:VEVENT
DTSTART;TZID=America/New_York:20240514T080000
DTEND;TZID=America/New_York:20240514T090000
DTSTAMP:20260421T111926
CREATED:20240130T181442Z
LAST-MODIFIED:20240130T181444Z
UID:10000058-1715673600-1715677200@silverbellsdiy.com
SUMMARY:Coffee talk
DESCRIPTION:
URL:https://silverbellsdiy.com/event/coffee-talk-2-2/2024-05-14/
LOCATION:NH
END:VEVENT
BEGIN:VEVENT
DTSTART;TZID=America/New_York:20240507T080000
DTEND;TZID=America/New_York:20240507T090000
DTSTAMP:20260421T111926
CREATED:20240130T181442Z
LAST-MODIFIED:20240130T181444Z
UID:10000057-1715068800-1715072400@silverbellsdiy.com
SUMMARY:Coffee talk
DESCRIPTION:
URL:https://silverbellsdiy.com/event/coffee-talk-2-2/2024-05-07/
LOCATION:NH
END:VEVENT
BEGIN:VEVENT
DTSTART;TZID=America/New_York:20240504T180000
DTEND;TZID=America/New_York:20240504T200000
DTSTAMP:20260421T111926
CREATED:20240207T194706Z
LAST-MODIFIED:20240207T194706Z
UID:10000078-1714845600-1714852800@silverbellsdiy.com
SUMMARY:Plant Craft
DESCRIPTION:
URL:https://silverbellsdiy.com/event/plant-craft/
LOCATION:Silver Bells DIY\, 501 Daniel Webster Hwy\, Merrimack\, NH\, 03054\, United States
ATTACH;FMTTYPE=image/jpeg:https://silverbellsdiy.com/wp-content/uploads/2023/07/coming-soon-1-1-6.jpg
END:VEVENT
BEGIN:VEVENT
DTSTART;TZID=America/New_York:20240430T080000
DTEND;TZID=America/New_York:20240430T090000
DTSTAMP:20260421T111926
CREATED:20240130T181442Z
LAST-MODIFIED:20240130T181444Z
UID:10000056-1714464000-1714467600@silverbellsdiy.com
SUMMARY:Coffee talk
DESCRIPTION:
URL:https://silverbellsdiy.com/event/coffee-talk-2-2/2024-04-30/
LOCATION:NH
END:VEVENT
BEGIN:VEVENT
DTSTART;TZID=America/New_York:20240423T080000
DTEND;TZID=America/New_York:20240423T090000
DTSTAMP:20260421T111926
CREATED:20240130T181442Z
LAST-MODIFIED:20240130T181444Z
UID:10000055-1713859200-1713862800@silverbellsdiy.com
SUMMARY:Coffee talk
DESCRIPTION:
URL:https://silverbellsdiy.com/event/coffee-talk-2-2/2024-04-23/
LOCATION:NH
END:VEVENT
BEGIN:VEVENT
DTSTART;TZID=America/New_York:20240416T080000
DTEND;TZID=America/New_York:20240416T090000
DTSTAMP:20260421T111926
CREATED:20240130T181442Z
LAST-MODIFIED:20240130T181444Z
UID:10000054-1713254400-1713258000@silverbellsdiy.com
SUMMARY:Coffee talk
DESCRIPTION:
URL:https://silverbellsdiy.com/event/coffee-talk-2-2/2024-04-16/
LOCATION:NH
END:VEVENT
BEGIN:VEVENT
DTSTART;TZID=America/New_York:20240413T180000
DTEND;TZID=America/New_York:20240413T200000
DTSTAMP:20260421T111926
CREATED:20240207T194722Z
LAST-MODIFIED:20240207T194722Z
UID:10000077-1713031200-1713038400@silverbellsdiy.com
SUMMARY:Spring Bee Craft
DESCRIPTION:
URL:https://silverbellsdiy.com/event/spring-bee-craft/
LOCATION:Silver Bells DIY\, 501 Daniel Webster Hwy\, Merrimack\, NH\, 03054\, United States
ATTACH;FMTTYPE=image/jpeg:https://silverbellsdiy.com/wp-content/uploads/2024/02/IMG_4505.jpg
END:VEVENT
BEGIN:VEVENT
DTSTART;TZID=America/New_York:20240409T080000
DTEND;TZID=America/New_York:20240409T090000
DTSTAMP:20260421T111926
CREATED:20240130T181442Z
LAST-MODIFIED:20240130T181444Z
UID:10000053-1712649600-1712653200@silverbellsdiy.com
SUMMARY:Coffee talk
DESCRIPTION:
URL:https://silverbellsdiy.com/event/coffee-talk-2-2/2024-04-09/
LOCATION:NH
END:VEVENT
END:VCALENDAR