BEGIN:VCALENDAR
VERSION:2.0
PRODID:-//Silver Bells DIY - ECPv6.15.20//NONSGML v1.0//EN
CALSCALE:GREGORIAN
METHOD:PUBLISH
X-ORIGINAL-URL:https://silverbellsdiy.com
X-WR-CALDESC:Events for Silver Bells DIY
REFRESH-INTERVAL;VALUE=DURATION:PT1H
X-Robots-Tag:noindex
X-PUBLISHED-TTL:PT1H
BEGIN:VTIMEZONE
TZID:America/New_York
BEGIN:DAYLIGHT
TZOFFSETFROM:-0500
TZOFFSETTO:-0400
TZNAME:EDT
DTSTART:20220313T070000
END:DAYLIGHT
BEGIN:STANDARD
TZOFFSETFROM:-0400
TZOFFSETTO:-0500
TZNAME:EST
DTSTART:20221106T060000
END:STANDARD
BEGIN:DAYLIGHT
TZOFFSETFROM:-0500
TZOFFSETTO:-0400
TZNAME:EDT
DTSTART:20230312T070000
END:DAYLIGHT
BEGIN:STANDARD
TZOFFSETFROM:-0400
TZOFFSETTO:-0500
TZNAME:EST
DTSTART:20231105T060000
END:STANDARD
BEGIN:DAYLIGHT
TZOFFSETFROM:-0500
TZOFFSETTO:-0400
TZNAME:EDT
DTSTART:20240310T070000
END:DAYLIGHT
BEGIN:STANDARD
TZOFFSETFROM:-0400
TZOFFSETTO:-0500
TZNAME:EST
DTSTART:20241103T060000
END:STANDARD
BEGIN:DAYLIGHT
TZOFFSETFROM:-0500
TZOFFSETTO:-0400
TZNAME:EDT
DTSTART:20250309T070000
END:DAYLIGHT
BEGIN:STANDARD
TZOFFSETFROM:-0400
TZOFFSETTO:-0500
TZNAME:EST
DTSTART:20251102T060000
END:STANDARD
END:VTIMEZONE
BEGIN:VEVENT
DTSTART;TZID=America/New_York:20240302T180000
DTEND;TZID=America/New_York:20240302T200000
DTSTAMP:20260421T161956
CREATED:20240207T192054Z
LAST-MODIFIED:20240207T192054Z
UID:10000075-1709402400-1709409600@silverbellsdiy.com
SUMMARY:St. Patricks Day Craft
DESCRIPTION:
URL:https://silverbellsdiy.com/event/st-patricks-day-craft/
LOCATION:Silver Bells DIY\, 501 Daniel Webster Hwy\, Merrimack\, NH\, 03054\, United States
ATTACH;FMTTYPE=image/jpeg:https://silverbellsdiy.com/wp-content/uploads/2023/07/coming-soon-1-1-6.jpg
END:VEVENT
BEGIN:VEVENT
DTSTART;TZID=America/New_York:20240227T080000
DTEND;TZID=America/New_York:20240227T090000
DTSTAMP:20260421T161956
CREATED:20240130T181442Z
LAST-MODIFIED:20240130T181444Z
UID:10000047-1709020800-1709024400@silverbellsdiy.com
SUMMARY:Coffee talk
DESCRIPTION:
URL:https://silverbellsdiy.com/event/coffee-talk-2-2/2024-02-27/
LOCATION:NH
END:VEVENT
BEGIN:VEVENT
DTSTART;TZID=America/New_York:20240220T080000
DTEND;TZID=America/New_York:20240220T090000
DTSTAMP:20260421T161956
CREATED:20240130T181442Z
LAST-MODIFIED:20240130T181444Z
UID:10000046-1708416000-1708419600@silverbellsdiy.com
SUMMARY:Coffee talk
DESCRIPTION:
URL:https://silverbellsdiy.com/event/coffee-talk-2-2/2024-02-20/
LOCATION:NH
END:VEVENT
BEGIN:VEVENT
DTSTART;TZID=America/New_York:20240213T080000
DTEND;TZID=America/New_York:20240213T090000
DTSTAMP:20260421T161956
CREATED:20240130T181442Z
LAST-MODIFIED:20240130T181444Z
UID:10000045-1707811200-1707814800@silverbellsdiy.com
SUMMARY:Coffee talk
DESCRIPTION:
URL:https://silverbellsdiy.com/event/coffee-talk-2-2/2024-02-13/
LOCATION:NH
END:VEVENT
BEGIN:VEVENT
DTSTART;TZID=America/New_York:20240210T180000
DTEND;TZID=America/New_York:20240210T200000
DTSTAMP:20260421T161956
CREATED:20240207T191526Z
LAST-MODIFIED:20240207T191526Z
UID:10000074-1707588000-1707595200@silverbellsdiy.com
SUMMARY:Valentines Craft
DESCRIPTION:
URL:https://silverbellsdiy.com/event/valentines-craft/
LOCATION:Silver Bells DIY\, 501 Daniel Webster Hwy\, Merrimack\, NH\, 03054\, United States
ATTACH;FMTTYPE=image/jpeg:https://silverbellsdiy.com/wp-content/uploads/2024/02/20240128_142014.jpg
END:VEVENT
BEGIN:VEVENT
DTSTART;TZID=America/New_York:20240206T080000
DTEND;TZID=America/New_York:20240206T090000
DTSTAMP:20260421T161956
CREATED:20240130T181442Z
LAST-MODIFIED:20240130T181444Z
UID:10000044-1707206400-1707210000@silverbellsdiy.com
SUMMARY:Coffee talk
DESCRIPTION:
URL:https://silverbellsdiy.com/event/coffee-talk-2-2/2024-02-06/
LOCATION:NH
END:VEVENT
BEGIN:VEVENT
DTSTART;TZID=America/New_York:20240130T080000
DTEND;TZID=America/New_York:20240130T090000
DTSTAMP:20260421T161956
CREATED:20240130T181442Z
LAST-MODIFIED:20240130T181444Z
UID:10000043-1706601600-1706605200@silverbellsdiy.com
SUMMARY:Coffee talk
DESCRIPTION:
URL:https://silverbellsdiy.com/event/coffee-talk-2-2/2024-01-30/
LOCATION:NH
END:VEVENT
BEGIN:VEVENT
DTSTART;TZID=America/New_York:20240123T080000
DTEND;TZID=America/New_York:20240123T090000
DTSTAMP:20260421T161956
CREATED:20240130T181442Z
LAST-MODIFIED:20240130T181444Z
UID:10000042-1705996800-1706000400@silverbellsdiy.com
SUMMARY:Coffee talk
DESCRIPTION:
URL:https://silverbellsdiy.com/event/coffee-talk-2-2/2024-01-23/
LOCATION:NH
END:VEVENT
BEGIN:VEVENT
DTSTART;TZID=America/New_York:20240116T080000
DTEND;TZID=America/New_York:20240116T090000
DTSTAMP:20260421T161956
CREATED:20240130T181442Z
LAST-MODIFIED:20240130T181444Z
UID:10000041-1705392000-1705395600@silverbellsdiy.com
SUMMARY:Coffee talk
DESCRIPTION:
URL:https://silverbellsdiy.com/event/coffee-talk-2-2/2024-01-16/
LOCATION:NH
END:VEVENT
BEGIN:VEVENT
DTSTART;TZID=America/New_York:20240109T080000
DTEND;TZID=America/New_York:20240109T090000
DTSTAMP:20260421T161956
CREATED:20240130T181442Z
LAST-MODIFIED:20240130T181444Z
UID:10000040-1704787200-1704790800@silverbellsdiy.com
SUMMARY:Coffee talk
DESCRIPTION:
URL:https://silverbellsdiy.com/event/coffee-talk-2-2/2024-01-09/
LOCATION:NH
END:VEVENT
BEGIN:VEVENT
DTSTART;TZID=America/New_York:20240102T080000
DTEND;TZID=America/New_York:20240102T090000
DTSTAMP:20260421T161956
CREATED:20240130T181442Z
LAST-MODIFIED:20240130T181444Z
UID:10000039-1704182400-1704186000@silverbellsdiy.com
SUMMARY:Coffee talk
DESCRIPTION:
URL:https://silverbellsdiy.com/event/coffee-talk-2-2/2024-01-02/
LOCATION:NH
END:VEVENT
BEGIN:VEVENT
DTSTART;TZID=America/New_York:20231228T180000
DTEND;TZID=America/New_York:20231228T200000
DTSTAMP:20260421T161956
CREATED:20231026T184553Z
LAST-MODIFIED:20231026T184553Z
UID:10000037-1703786400-1703793600@silverbellsdiy.com
SUMMARY:Holiday Cheer
DESCRIPTION:
URL:https://silverbellsdiy.com/event/holiday-cheer-4/
LOCATION:Silver Bells DIY\, 501 Daniel Webster Hwy\, Merrimack\, NH\, 03054\, United States
END:VEVENT
BEGIN:VEVENT
DTSTART;TZID=America/New_York:20231226T060000
DTEND;TZID=America/New_York:20231226T080000
DTSTAMP:20260421T161956
CREATED:20231023T094811Z
LAST-MODIFIED:20231023T094812Z
UID:10000027-1703570400-1703577600@silverbellsdiy.com
SUMMARY:Coffee talk
DESCRIPTION:
URL:https://silverbellsdiy.com/event/coffee-talk-2/2023-12-26/
LOCATION:NH
END:VEVENT
BEGIN:VEVENT
DTSTART;TZID=America/New_York:20231221T180000
DTEND;TZID=America/New_York:20231221T200000
DTSTAMP:20260421T161956
CREATED:20231026T184538Z
LAST-MODIFIED:20231026T184538Z
UID:10000038-1703181600-1703188800@silverbellsdiy.com
SUMMARY:Holiday Cheer
DESCRIPTION:
URL:https://silverbellsdiy.com/event/holiday-cheer-3/
LOCATION:Silver Bells DIY\, 501 Daniel Webster Hwy\, Merrimack\, NH\, 03054\, United States
END:VEVENT
BEGIN:VEVENT
DTSTART;TZID=America/New_York:20231219T060000
DTEND;TZID=America/New_York:20231219T080000
DTSTAMP:20260421T161956
CREATED:20231023T094811Z
LAST-MODIFIED:20231023T094812Z
UID:10000026-1702965600-1702972800@silverbellsdiy.com
SUMMARY:Coffee talk
DESCRIPTION:
URL:https://silverbellsdiy.com/event/coffee-talk-2/2023-12-19/
LOCATION:NH
END:VEVENT
BEGIN:VEVENT
DTSTART;TZID=America/New_York:20231214T180000
DTEND;TZID=America/New_York:20231214T200000
DTSTAMP:20260421T161956
CREATED:20231026T163021Z
LAST-MODIFIED:20231026T163021Z
UID:10000036-1702576800-1702584000@silverbellsdiy.com
SUMMARY:Holiday Cheer
DESCRIPTION:
URL:https://silverbellsdiy.com/event/holiday-cheer-2/
LOCATION:Silver Bells DIY\, 501 Daniel Webster Hwy\, Merrimack\, NH\, 03054\, United States
END:VEVENT
BEGIN:VEVENT
DTSTART;TZID=America/New_York:20231212T060000
DTEND;TZID=America/New_York:20231212T080000
DTSTAMP:20260421T161956
CREATED:20231023T094811Z
LAST-MODIFIED:20231023T094812Z
UID:10000025-1702360800-1702368000@silverbellsdiy.com
SUMMARY:Coffee talk
DESCRIPTION:
URL:https://silverbellsdiy.com/event/coffee-talk-2/2023-12-12/
LOCATION:NH
END:VEVENT
BEGIN:VEVENT
DTSTART;TZID=America/New_York:20231207T180000
DTEND;TZID=America/New_York:20231207T200000
DTSTAMP:20260421T161956
CREATED:20231026T162832Z
LAST-MODIFIED:20231026T162832Z
UID:10000035-1701972000-1701979200@silverbellsdiy.com
SUMMARY:Holiday Cheer
DESCRIPTION:
URL:https://silverbellsdiy.com/event/holiday-cheer/
LOCATION:Silver Bells DIY\, 501 Daniel Webster Hwy\, Merrimack\, NH\, 03054\, United States
END:VEVENT
BEGIN:VEVENT
DTSTART;TZID=America/New_York:20231205T060000
DTEND;TZID=America/New_York:20231205T080000
DTSTAMP:20260421T161956
CREATED:20231023T094811Z
LAST-MODIFIED:20231023T094812Z
UID:10000024-1701756000-1701763200@silverbellsdiy.com
SUMMARY:Coffee talk
DESCRIPTION:
URL:https://silverbellsdiy.com/event/coffee-talk-2/2023-12-05/
LOCATION:NH
END:VEVENT
BEGIN:VEVENT
DTSTART;TZID=America/New_York:20231130T180000
DTEND;TZID=America/New_York:20231130T200000
DTSTAMP:20260421T161956
CREATED:20231026T162425Z
LAST-MODIFIED:20231026T162425Z
UID:10000033-1701367200-1701374400@silverbellsdiy.com
SUMMARY:Fall Festival
DESCRIPTION:
URL:https://silverbellsdiy.com/event/fall-festival-3/
LOCATION:Silver Bells DIY\, 501 Daniel Webster Hwy\, Merrimack\, NH\, 03054\, United States
END:VEVENT
BEGIN:VEVENT
DTSTART;TZID=America/New_York:20231128T060000
DTEND;TZID=America/New_York:20231128T080000
DTSTAMP:20260421T161956
CREATED:20231023T094811Z
LAST-MODIFIED:20231023T094812Z
UID:10000023-1701151200-1701158400@silverbellsdiy.com
SUMMARY:Coffee talk
DESCRIPTION:
URL:https://silverbellsdiy.com/event/coffee-talk-2/2023-11-28/
LOCATION:NH
END:VEVENT
BEGIN:VEVENT
DTSTART;TZID=America/New_York:20231123T180000
DTEND;TZID=America/New_York:20231123T200000
DTSTAMP:20260421T161956
CREATED:20231026T162546Z
LAST-MODIFIED:20231026T162546Z
UID:10000032-1700762400-1700769600@silverbellsdiy.com
SUMMARY:Fall Festival
DESCRIPTION:
URL:https://silverbellsdiy.com/event/fall-festival-4/
LOCATION:Silver Bells DIY\, 501 Daniel Webster Hwy\, Merrimack\, NH\, 03054\, United States
END:VEVENT
BEGIN:VEVENT
DTSTART;TZID=America/New_York:20231121T060000
DTEND;TZID=America/New_York:20231121T080000
DTSTAMP:20260421T161956
CREATED:20231023T094811Z
LAST-MODIFIED:20231023T094812Z
UID:10000022-1700546400-1700553600@silverbellsdiy.com
SUMMARY:Coffee talk
DESCRIPTION:
URL:https://silverbellsdiy.com/event/coffee-talk-2/2023-11-21/
LOCATION:NH
END:VEVENT
BEGIN:VEVENT
DTSTART;TZID=America/New_York:20231116T180000
DTEND;TZID=America/New_York:20231116T200000
DTSTAMP:20260421T161956
CREATED:20231026T162707Z
LAST-MODIFIED:20231026T162707Z
UID:10000034-1700157600-1700164800@silverbellsdiy.com
SUMMARY:Fall Festival
DESCRIPTION:
URL:https://silverbellsdiy.com/event/fall-festival-5/
LOCATION:Silver Bells DIY\, 501 Daniel Webster Hwy\, Merrimack\, NH\, 03054\, United States
END:VEVENT
BEGIN:VEVENT
DTSTART;TZID=America/New_York:20231114T060000
DTEND;TZID=America/New_York:20231114T080000
DTSTAMP:20260421T161956
CREATED:20231023T094811Z
LAST-MODIFIED:20231023T094812Z
UID:10000021-1699941600-1699948800@silverbellsdiy.com
SUMMARY:Coffee talk
DESCRIPTION:
URL:https://silverbellsdiy.com/event/coffee-talk-2/2023-11-14/
LOCATION:NH
END:VEVENT
BEGIN:VEVENT
DTSTART;TZID=America/New_York:20231109T180000
DTEND;TZID=America/New_York:20231109T200000
DTSTAMP:20260421T161956
CREATED:20231026T152037Z
LAST-MODIFIED:20231026T152459Z
UID:10000030-1699552800-1699560000@silverbellsdiy.com
SUMMARY:Fall Festival
DESCRIPTION:
URL:https://silverbellsdiy.com/event/fall-festival/
LOCATION:Silver Bells DIY\, 501 Daniel Webster Hwy\, Merrimack\, NH\, 03054\, United States
END:VEVENT
BEGIN:VEVENT
DTSTART;TZID=America/New_York:20231107T060000
DTEND;TZID=America/New_York:20231107T080000
DTSTAMP:20260421T161956
CREATED:20231023T094811Z
LAST-MODIFIED:20231023T094812Z
UID:10000020-1699336800-1699344000@silverbellsdiy.com
SUMMARY:Coffee talk
DESCRIPTION:
URL:https://silverbellsdiy.com/event/coffee-talk-2/2023-11-07/
LOCATION:NH
END:VEVENT
BEGIN:VEVENT
DTSTART;TZID=America/New_York:20231102T180000
DTEND;TZID=America/New_York:20231102T200000
DTSTAMP:20260421T161956
CREATED:20231026T162316Z
LAST-MODIFIED:20231026T162316Z
UID:10000031-1698948000-1698955200@silverbellsdiy.com
SUMMARY:Fall Festival
DESCRIPTION:
URL:https://silverbellsdiy.com/event/fall-festival-2/
LOCATION:Silver Bells DIY\, 501 Daniel Webster Hwy\, Merrimack\, NH\, 03054\, United States
END:VEVENT
BEGIN:VEVENT
DTSTART;TZID=America/New_York:20231031T060000
DTEND;TZID=America/New_York:20231031T080000
DTSTAMP:20260421T161956
CREATED:20231023T094811Z
LAST-MODIFIED:20231023T094812Z
UID:10000019-1698732000-1698739200@silverbellsdiy.com
SUMMARY:Coffee talk
DESCRIPTION:
URL:https://silverbellsdiy.com/event/coffee-talk-2/2023-10-31/
LOCATION:NH
END:VEVENT
BEGIN:VEVENT
DTSTART;TZID=America/New_York:20231024T060000
DTEND;TZID=America/New_York:20231024T080000
DTSTAMP:20260421T161956
CREATED:20231023T094811Z
LAST-MODIFIED:20231023T094812Z
UID:10000007-1698127200-1698134400@silverbellsdiy.com
SUMMARY:Coffee talk
DESCRIPTION:
URL:https://silverbellsdiy.com/event/coffee-talk-2/2023-10-24/
LOCATION:NH
END:VEVENT
END:VCALENDAR